Changing weather patterns, predictions of future conditions, and FIRMs that show flood risk based on past events necessitated the creation of a map product to communicate the flood risk beyond the 100-year floodplain. The BFE+3\u2019 up and out methodology is meant to convey that risk by adding three feet of water on top of the base flood elevation (vertically) and pushing this volume of water out horizontally. It projects a larger volume storm than the 100-year storm and in Maryland\u2019s coastal areas, it shows where the 100-year floodplain could be by 2050. The advantage of the BFE+3\u2019 up and out method is that it can generate flood depths beyond the floodplain, making it a powerful tool when conveying the flood risk in areas outside the 100-year floodplain.<\/span><\/p>The BFE+3\u2019 Up and Out methodology will produce map products that can be used to communicate the risk of flooding for properties outside the 100-year floodplain by adding three feet of water on top of the BFE, vertically, and pushing this volume of water out horizontally. An advantage of the BFE+3\u2019 maps is that it will show flood depths beyond the 100-year floodplain. Comparatively, adding a 3\u2019 freeboard to the BFE only accounts for the vertical rise and does not address what would happen to the rest of that volume of water in terms of horizontal spread. Because the BFE ends at the boundary of the 100-year floodplain, the areas beyond it are without identified flood depths. BFE+3\u2019 up and out will resolve that issue. BFE+3\u2019 maps quantify the flood risk beyond the floodplain<\/span><\/p><\/div><\/div><\/div>",
"serviceItemId": "7b7bab59dcb345268c40d7b9204bbb69",
"name": "CRAB/Coast_Smart_Climate_Ready_Action_Boundary_CRAB",
"description": "Changing weather patterns, predictions of future conditions, and FIRMs that show flood risk based on past events necessitated the creation of a map product to communicate the flood risk beyond the 100-year floodplain. The BFE+3\u2019 up and out methodology is meant to convey that risk by adding three feet of water on top of the base flood elevation (vertically) and pushing this volume of water out horizontally. It projects a larger volume storm than the 100-year storm and in Maryland\u2019s coastal areas, it shows where the 100-year floodplain could be by 2050. The advantage of the BFE+3\u2019 up and out method is that it can generate flood depths beyond the floodplain, making it a powerful tool when conveying the flood risk in areas outside the 100-year floodplain.<\/span><\/p>The BFE+3\u2019 Up and Out methodology will produce map products that can be used to communicate the risk of flooding for properties outside the 100-year floodplain by adding three feet of water on top of the BFE, vertically, and pushing this volume of water out horizontally. An advantage of the BFE+3\u2019 maps is that it will show flood depths beyond the 100-year floodplain. Comparatively, adding a 3\u2019 freeboard to the BFE only accounts for the vertical rise and does not address what would happen to the rest of that volume of water in terms of horizontal spread. Because the BFE ends at the boundary of the 100-year floodplain, the areas beyond it are without identified flood depths. BFE+3\u2019 up and out will resolve that issue. BFE+3\u2019 maps quantify the flood risk beyond the floodplain<\/span><\/p><\/div><\/div><\/div>",
"extent": {
"xmin": -8602728.172509342,
"ymin": 4565128.624769894,
"xmax": -8350598.710619247,
"ymax": 4813044.4120947635,
"spatialReference": {
"wkid": 102100,
"latestWkid": 3857
}
},
"initialExtent": {
"xmin": -8602728.172509342,
"ymin": 4565128.624769894,
"xmax": -8350598.710619247,
"ymax": 4813044.4120947635,
"spatialReference": {
"wkid": 102100,
"latestWkid": 3857
}
},
"fullExtent": {
"xmin": -8602728.172509342,
"ymin": 4565128.624769894,
"xmax": -8350598.710619247,
"ymax": 4813044.4120947635,
"spatialReference": {
"wkid": 102100,
"latestWkid": 3857
}
},
"sortableFields": "MinPS,MaxPS,LowPS,HighPS,CenterX,CenterY,ZOrder,Shape.STArea(),Shape.STLength()",
"bandCount": 1,
"pixelType": "F32",
"minValues": [
0
],
"maxValues": [
14.304174423217773
],
"meanValues": [
7.049611961256414
],
"stdvValues": [
2.9413267257878464
],
"serviceProperties": "NorthWest<\/MosaicMethod>Min<\/MosaicOperator>true<\/SortAscending><\/LockImageID>Name<\/TileOrderField>0<\/TileOrderBase>600.000000<\/AvgImageSpacingX>300.000000<\/AvgImageSpacingY>0.0<\/ViewPointX>0.0<\/ViewPointY>0.0<\/ViewPointDefShiftX>0.0<\/ViewPointDefShiftY>None<\/CompressionMethod>75<\/CompressionQuality>0.010000<\/CompressionTolerance>Bilinear<\/SamplingMethod><\/ImageServiceProperties><\/ImageServer>",
"allowedFields": "Name,MinPS,MaxPS,LowPS,HighPS,Tag,GroupName,ProductName,CenterX,CenterY,ZOrder,Shape.STArea(),Shape.STLength(),Thumbnail",
"hasMultidimensions": false,
"pixelSizeX": 0.30480060960121924,
"pixelSizeY": 0.30480060960121924,
"meanPixelSize": 0.30480060960121924,
"datasetFormat": "AMD",
"uncompressedSize": 2691259135120,
"blockWidth": 2048,
"blockHeight": 256,
"compressionType": "None",
"bandNames": [
"Band_1"
],
"allowCopy": true,
"allowAnalysis": true,
"itemAccess": false,
"inspectionCapabilities": "",
"minPixelSize": 0,
"maxPixelSize": 0,
"copyrightText": "URLS and Links for usage and reference:https://mdfloodmaps.net/https://mdfloodmaps.net/crab/Email \u2013 flood.maps@maryland.govhttps://dnr.maryland.gov/climateresilience/Documents/2020-Coast-Smart-Program-Document-FINAL.pdfStorymap - https://storymaps.arcgis.com/stories/bd1ab6827c77457a9c6aec5ca1eb4af22020 \u2013 Coast Smart Program Document : https://dnr.maryland.gov/climateresilience/Documents/2020-Coast-Smart-Program-Document-FINAL.pdfHB 615 - https://legiscan.com/MD/bill/HB615/2014",
"serviceDataType": "esriImageServiceDataTypeGeneric",
"serviceSourceType": "esriImageServiceSourceTypeMosaicDataset",
"objectIdField": "OBJECTID",
"fields": [
{
"name": "OBJECTID",
"type": "esriFieldTypeOID",
"alias": "OBJECTID",
"domain": null
},
{
"name": "Name",
"type": "esriFieldTypeString",
"alias": "Name",
"domain": null,
"length": 200
},
{
"name": "MinPS",
"type": "esriFieldTypeDouble",
"alias": "MinPS",
"domain": null
},
{
"name": "MaxPS",
"type": "esriFieldTypeDouble",
"alias": "MaxPS",
"domain": null
},
{
"name": "LowPS",
"type": "esriFieldTypeDouble",
"alias": "LowPS",
"domain": null
},
{
"name": "HighPS",
"type": "esriFieldTypeDouble",
"alias": "HighPS",
"domain": null
},
{
"name": "Category",
"type": "esriFieldTypeInteger",
"alias": "Category",
"domain": {
"type": "codedValue",
"name": "MosaicCatalogItemCategoryDomain",
"description": "Catalog item categories.",
"codedValues": [
{
"name": "Unknown",
"code": 0
},
{
"name": "Primary",
"code": 1
},
{
"name": "Overview",
"code": 2
},
{
"name": "Unprocessed Overview",
"code": 3
},
{
"name": "Partial Overview",
"code": 4
},
{
"name": "Inactive",
"code": 5
},
{
"name": "Uploaded",
"code": 253
},
{
"name": "Incomplete",
"code": 254
},
{
"name": "Custom",
"code": 255
}
],
"mergePolicy": "esriMPTDefaultValue",
"splitPolicy": "esriSPTDefaultValue"
}
},
{
"name": "Tag",
"type": "esriFieldTypeString",
"alias": "Tag",
"domain": null,
"length": 100
},
{
"name": "GroupName",
"type": "esriFieldTypeString",
"alias": "GroupName",
"domain": null,
"length": 100
},
{
"name": "ProductName",
"type": "esriFieldTypeString",
"alias": "ProductName",
"domain": null,
"length": 100
},
{
"name": "CenterX",
"type": "esriFieldTypeDouble",
"alias": "CenterX",
"domain": null
},
{
"name": "CenterY",
"type": "esriFieldTypeDouble",
"alias": "CenterY",
"domain": null
},
{
"name": "ZOrder",
"type": "esriFieldTypeInteger",
"alias": "ZOrder",
"domain": null
},
{
"name": "Shape",
"type": "esriFieldTypeGeometry",
"alias": "Shape",
"domain": null
},
{
"name": "Shape.STArea()",
"type": "esriFieldTypeDouble",
"alias": "Shape.STArea()",
"domain": null
},
{
"name": "Shape.STLength()",
"type": "esriFieldTypeDouble",
"alias": "Shape.STLength()",
"domain": null
}
],
"capabilities": "Catalog,Pixels,Download,Image,Metadata",
"defaultMosaicMethod": "Northwest",
"allowedMosaicMethods": "NorthWest,Center,LockRaster,ByAttribute,Nadir,Viewpoint,Seamline,None",
"sortField": "",
"sortValue": null,
"sortAscending": true,
"mosaicOperator": "Min",
"maxDownloadSizeLimit": 2048,
"defaultCompressionQuality": 75,
"defaultResamplingMethod": "Bilinear",
"maxImageHeight": 4100,
"maxImageWidth": 15000,
"maxRecordCount": 1000,
"maxDownloadImageCount": 20,
"maxMosaicImageCount": 20,
"allowRasterFunction": true,
"rasterFunctionInfos": [
{
"name": "Coastal CRAB",
"description": "Symbology for Coastal CRAB Data",
"help": ""
},
{
"name": "Coastal CRAB",
"description": "Symbology for Coastal CRAB Data",
"help": ""
},
{
"name": "None",
"description": "Make a Raster or Raster Dataset into a Function Raster Dataset.",
"help": ""
}
],
"rasterTypeInfos": [
{
"name": "Raster Dataset",
"description": "Supports all ArcGIS Raster Datasets",
"help": ""
}
],
"mensurationCapabilities": "",
"hasHistograms": true,
"hasColormap": false,
"hasRasterAttributeTable": false,
"minScale": 0,
"maxScale": 0,
"exportTilesAllowed": false,
"supportsStatistics": true,
"supportsAdvancedQueries": true,
"editFieldsInfo": null,
"ownershipBasedAccessControlForRasters": null,
"allowComputeTiePoints": false,
"useStandardizedQueries": true,
"advancedQueryCapabilities": {
"useStandardizedQueries": true,
"supportsStatistics": true,
"supportsOrderBy": true,
"supportsDistinct": true,
"supportsPagination": true
},
"spatialReference": {
"wkid": 102100,
"latestWkid": 3857
},
"resampling": false
}