{
 "currentVersion": 11.5,
 "serviceDescription": "Drone/270_1_GR_tif",
 "serviceItemId": "aef512ca15a8422890881cccd8af74cf",
 "name": "Drone/270_1_GR_tif",
 "description": "",
 "extent": {
  "xmin": 1237739.8906770484,
  "ymin": 555382.4177941171,
  "xmax": 1238893.9243885567,
  "ymax": 557516.6102303099,
  "spatialReference": {
   "wkid": 102685,
   "latestWkid": 2248
  }
 },
 "initialExtent": {
  "xmin": 1237739.8906770484,
  "ymin": 555382.4177941171,
  "xmax": 1238893.9243885567,
  "ymax": 557516.6102303099,
  "spatialReference": {
   "wkid": 102685,
   "latestWkid": 2248
  }
 },
 "fullExtent": {
  "xmin": 1237739.8906770484,
  "ymin": 555382.4177941171,
  "xmax": 1238893.9243885567,
  "ymax": 557516.6102303099,
  "spatialReference": {
   "wkid": 102685,
   "latestWkid": 2248
  }
 },
 "sortableFields": "",
 "bandCount": 4,
 "pixelType": "U8",
 "minValues": [
  0,
  0,
  0,
  0
 ],
 "maxValues": [
  255,
  255,
  255,
  255
 ],
 "meanValues": [
  26.058117737523,
  26.27449766962,
  25.194893170741,
  64.993149437729
 ],
 "stdvValues": [
  47.116323793944,
  47.866102658774,
  46.950151994646,
  111.12670088189
 ],
 "serviceProperties": "Center<\/MosaicMethod>First<\/MosaicOperator>true<\/SortAscending><\/LockImageID><\/TileOrderField>0<\/TileOrderBase>0.000000<\/AvgImageSpacingX>0.000000<\/AvgImageSpacingY>0.0<\/ViewPointX>0.0<\/ViewPointY>0.0<\/ViewPointDefShiftX>0.0<\/ViewPointDefShiftY>None<\/CompressionMethod>75<\/CompressionQuality>0.010000<\/CompressionTolerance>Bilinear<\/SamplingMethod><\/ImageServiceProperties><\/ImageServer>",
 "allowedFields": "",
 "hasMultidimensions": false,
 "pixelSizeX": 0.057918881380596345,
 "pixelSizeY": 0.05545949888760373,
 "meanPixelSize": 0.017278899710673114,
 "datasetFormat": "TIFF",
 "uncompressedSize": 3067015400,
 "blockWidth": 19925,
 "blockHeight": 1,
 "compressionType": "LZW",
 "bandNames": [
  "Band_1",
  "Band_2",
  "Band_3",
  "Band_4"
 ],
 "allowCopy": true,
 "allowAnalysis": true,
 "itemAccess": false,
 "inspectionCapabilities": "",
 "minPixelSize": 3.632107440922829,
 "maxPixelSize": 7.264214881845658,
 "copyrightText": "",
 "serviceDataType": "esriImageServiceDataTypeGeneric",
 "serviceSourceType": "esriImageServiceSourceTypeDataset",
 "objectIdField": "",
 "fields": [],
 "capabilities": "Mensuration,Image,Metadata",
 "defaultMosaicMethod": "Center",
 "allowedMosaicMethods": "",
 "sortField": "",
 "sortValue": null,
 "sortAscending": true,
 "mosaicOperator": "First",
 "defaultCompressionQuality": 75,
 "defaultResamplingMethod": "Bilinear",
 "maxImageHeight": 4100,
 "maxImageWidth": 15000,
 "singleFusedMapCache": true,
 "tileInfo": {
  "rows": 256,
  "cols": 256,
  "dpi": 96,
  "format": "MIXED",
  "compressionQuality": 75,
  "origin": {
   "x": -120561100,
   "y": 148302500
  },
  "spatialReference": {
   "wkid": 102685,
   "latestWkid": 2248
  },
  "lods": [
   {
    "level": 0,
    "resolution": 3.472222222222222,
    "scale": 4000
   },
   {
    "level": 1,
    "resolution": 1.736111111111111,
    "scale": 2000
   },
   {
    "level": 2,
    "resolution": 0.8680555555555555,
    "scale": 1000
   },
   {
    "level": 3,
    "resolution": 0.43402777777777773,
    "scale": 500
   },
   {
    "level": 4,
    "resolution": 0.21701388888888887,
    "scale": 250
   }
  ]
 },
 "storageInfo": {
  "storageFormat": "esriMapCacheStorageModeCompactV2",
  "packetSize": 128
 },
 "cacheType": "Map",
 "allowRasterFunction": true,
 "rasterFunctionInfos": [
  {
   "name": "None",
   "description": "",
   "help": ""
  }
 ],
 "rasterTypeInfos": [
  {
   "name": "Raster Dataset",
   "description": "Supports all ArcGIS Raster Datasets",
   "help": ""
  }
 ],
 "mensurationCapabilities": "Basic",
 "hasHistograms": true,
 "hasColormap": false,
 "hasRasterAttributeTable": false,
 "minScale": 8368.375543886199,
 "maxScale": 4184.1877719430995,
 "exportTilesAllowed": false,
 "supportsStatistics": false,
 "supportsAdvancedQueries": false,
 "editFieldsInfo": null,
 "ownershipBasedAccessControlForRasters": null,
 "allowComputeTiePoints": false,
 "useStandardizedQueries": true,
 "advancedQueryCapabilities": {
  "useStandardizedQueries": true,
  "supportsStatistics": false,
  "supportsOrderBy": false,
  "supportsDistinct": false,
  "supportsPagination": false
 },
 "spatialReference": {
  "wkid": 102685,
  "latestWkid": 2248
 },
 "resampling": false
}
