View In:
ArcGIS JavaScript
ArcGIS Online Map Viewer
ArcGIS Earth
Service Description: FloodForecasting/FloodForecast_SDE_r11688922_d_015yr_1
Name: FloodForecasting/FloodForecast_SDE_r11688922_d_015yr_1
Description:
Single Fused Map Cache: false
Extent:
XMin: 1461392.705182642
YMin: 623770.7395865787
XMax: 1463871.7405788635
YMax: 625551.0667345673
Spatial Reference: 102685
(2248)
LatestVCSWkid(0)
Initial Extent:
XMin: 1461392.705182642
YMin: 623770.7395865787
XMax: 1463871.7405788635
YMax: 625551.0667345673
Spatial Reference: 102685
(2248)
LatestVCSWkid(0)
Full Extent:
XMin: 1461392.705182642
YMin: 623770.7395865787
XMax: 1463871.7405788635
YMax: 625551.0667345673
Spatial Reference: 102685
(2248)
LatestVCSWkid(0)
Pixel Size X: 4.99805523431766
Pixel Size Y: 4.986910778679559
Band Count: 1
Pixel Type: F32
RasterFunction Infos: {"rasterFunctionInfos": [{
"name": "None",
"description": "",
"help": ""
}]}
Mensuration Capabilities: Basic
Inspection Capabilities:
Has Histograms: true
Has Colormap: false
Has Multi Dimensions : false
Rendering Rule:
Min Scale: 0
Max Scale: 0
Copyright Text:
Service Data Type: esriImageServiceDataTypeGeneric
Min Values: 3.4332275390625E-4
Max Values: 11.434707641601562
Mean Values: 3.581482138136994
Standard Deviation Values: 2.5532275967331426
Object ID Field:
Fields:
None
Default Mosaic Method: Center
Allowed Mosaic Methods:
SortField:
SortValue: null
Mosaic Operator: First
Default Compression Quality: 75
Default Resampling Method: Bilinear
Max Record Count: null
Max Image Height: 4100
Max Image Width: 15000
Max Download Image Count: null
Max Mosaic Image Count: null
Allow Raster Function: true
Allow Copy: true
Allow Analysis: true
Allow Compute TiePoints: false
Supports Statistics: false
Supports Advanced Queries: false
Use StandardizedQueries: true
Raster Type Infos:
Name: Raster Dataset
Description: Supports all ArcGIS Raster Datasets
Help:
Has Raster Attribute Table: false
Edit Fields Info: null
Ownership Based AccessControl For Rasters: null
Child Resources:
Info
Histograms
Statistics
Key Properties
Legend
Raster Function Infos
Supported Operations:
Export Image
Identify
Measure
Compute Histograms
Compute Statistics Histograms
Get Samples
Compute Class Statistics
Query Boundary
Compute Pixel Location
Compute Angles
Validate
Project