View In:
ArcGIS JavaScript
ArcGIS Online Map Viewer
ArcGIS Earth
Service Description: FloodForecasting/FloodForecast_SDE_r11688976_d_0015yr_1
Name: FloodForecasting/FloodForecast_SDE_r11688976_d_0015yr_1
Description:
Single Fused Map Cache: false
Extent:
XMin: 1471458.240504101
YMin: 617342.3126167846
XMax: 1474000.8272129102
YMax: 622116.6181724072
Spatial Reference: 102685
(2248)
LatestVCSWkid(0)
Initial Extent:
XMin: 1471458.240504101
YMin: 617342.3126167846
XMax: 1474000.8272129102
YMax: 622116.6181724072
Spatial Reference: 102685
(2248)
LatestVCSWkid(0)
Full Extent:
XMin: 1471458.240504101
YMin: 617342.3126167846
XMax: 1474000.8272129102
YMax: 622116.6181724072
Spatial Reference: 102685
(2248)
LatestVCSWkid(0)
Pixel Size X: 4.995258759939586
Pixel Size Y: 4.999272833112627
Band Count: 1
Pixel Type: F32
RasterFunction Infos: {"rasterFunctionInfos": [{
"name": "None",
"description": "",
"help": ""
}]}
Mensuration Capabilities: Basic
Inspection Capabilities:
Has Histograms: true
Has Colormap: false
Has Multi Dimensions : false
Rendering Rule:
Min Scale: 0
Max Scale: 0
Copyright Text:
Service Data Type: esriImageServiceDataTypeGeneric
Min Values: 4.00543212890625E-5
Max Values: 11.20505428314209
Mean Values: 3.446468254634078
Standard Deviation Values: 2.3333889098827263
Object ID Field:
Fields:
None
Default Mosaic Method: Center
Allowed Mosaic Methods:
SortField:
SortValue: null
Mosaic Operator: First
Default Compression Quality: 75
Default Resampling Method: Bilinear
Max Record Count: null
Max Image Height: 4100
Max Image Width: 15000
Max Download Image Count: null
Max Mosaic Image Count: null
Allow Raster Function: true
Allow Copy: true
Allow Analysis: true
Allow Compute TiePoints: false
Supports Statistics: false
Supports Advanced Queries: false
Use StandardizedQueries: true
Raster Type Infos:
Name: Raster Dataset
Description: Supports all ArcGIS Raster Datasets
Help:
Has Raster Attribute Table: false
Edit Fields Info: null
Ownership Based AccessControl For Rasters: null
Child Resources:
Info
Histograms
Statistics
Key Properties
Legend
Raster Function Infos
Supported Operations:
Export Image
Identify
Measure
Compute Histograms
Compute Statistics Histograms
Get Samples
Compute Class Statistics
Query Boundary
Compute Pixel Location
Compute Angles
Validate
Project