View In:
ArcGIS JavaScript
ArcGIS Online Map Viewer
ArcGIS Earth
Service Description: FloodForecasting/FloodForecast_SDE_r11689686_d_1000yr_1
Name: FloodForecasting/FloodForecast_SDE_r11689686_d_1000yr_1
Description:
Single Fused Map Cache: false
Extent:
XMin: 1462478.691796288
YMin: 616369.6563668876
XMax: 1471255.8999999631
YMax: 624834.9341446162
Spatial Reference: 102685
(2248)
LatestVCSWkid(0)
Initial Extent:
XMin: 1462478.691796288
YMin: 616369.6563668876
XMax: 1471255.8999999631
YMax: 624834.9341446162
Spatial Reference: 102685
(2248)
LatestVCSWkid(0)
Full Extent:
XMin: 1462478.691796288
YMin: 616369.6563668876
XMax: 1471255.8999999631
YMax: 624834.9341446162
Spatial Reference: 102685
(2248)
LatestVCSWkid(0)
Pixel Size X: 4.998410138767213
Pixel Size Y: 4.997212383547004
Band Count: 1
Pixel Type: F32
RasterFunction Infos: {"rasterFunctionInfos": [{
"name": "None",
"description": "",
"help": ""
}]}
Mensuration Capabilities: Basic
Inspection Capabilities:
Has Histograms: true
Has Colormap: false
Has Multi Dimensions : false
Rendering Rule:
Min Scale: 0
Max Scale: 0
Copyright Text:
Service Data Type: esriImageServiceDataTypeGeneric
Min Values: 7.62939453125E-6
Max Values: 27.47220230102539
Mean Values: 8.168219536474748
Standard Deviation Values: 5.854949245871066
Object ID Field:
Fields:
None
Default Mosaic Method: Center
Allowed Mosaic Methods:
SortField:
SortValue: null
Mosaic Operator: First
Default Compression Quality: 75
Default Resampling Method: Bilinear
Max Record Count: null
Max Image Height: 4100
Max Image Width: 15000
Max Download Image Count: null
Max Mosaic Image Count: null
Allow Raster Function: true
Allow Copy: true
Allow Analysis: true
Allow Compute TiePoints: false
Supports Statistics: false
Supports Advanced Queries: false
Use StandardizedQueries: true
Raster Type Infos:
Name: Raster Dataset
Description: Supports all ArcGIS Raster Datasets
Help:
Has Raster Attribute Table: false
Edit Fields Info: null
Ownership Based AccessControl For Rasters: null
Child Resources:
Info
Histograms
Statistics
Key Properties
Legend
Raster Function Infos
Supported Operations:
Export Image
Identify
Measure
Compute Histograms
Compute Statistics Histograms
Get Samples
Compute Class Statistics
Query Boundary
Compute Pixel Location
Compute Angles
Validate
Project