View In:
ArcGIS JavaScript
ArcGIS Online Map Viewer
ArcGIS Earth
Service Description: WRR/WRR_WV_LULC_NAIP_2016
Name: WRR/WRR_WV_LULC_NAIP_2016
Description:
Single Fused Map Cache: false
Extent:
XMin: 355936.9922854472
YMin: 4117440.1592318136
XMax: 782841.9922854472
YMax: 4498770.159231814
Spatial Reference: 26917
(26917)
LatestVCSWkid(0)
Initial Extent:
XMin: 355936.9922854472
YMin: 4117440.1592318136
XMax: 782841.9922854472
YMax: 4498770.159231814
Spatial Reference: 26917
(26917)
LatestVCSWkid(0)
Full Extent:
XMin: 355936.9922854472
YMin: 4117440.1592318136
XMax: 782841.9922854472
YMax: 4498770.159231814
Spatial Reference: 26917
(26917)
LatestVCSWkid(0)
Pixel Size X: 5.0
Pixel Size Y: 5.0
Band Count: 1
Pixel Type: U16
RasterFunction Infos: {"rasterFunctionInfos": [{
"name": "None",
"description": "",
"help": ""
}]}
Mensuration Capabilities: Basic
Inspection Capabilities:
Has Histograms: true
Has Colormap: false
Has Multi Dimensions : false
Rendering Rule:
Min Scale: 0
Max Scale: 0
Copyright Text:
Service Data Type: esriImageServiceDataTypeGeneric
Min Values: 1
Max Values: 25
Mean Values: 13.356927010641215
Standard Deviation Values: 3.7192251823372975
Object ID Field:
Fields:
None
Default Mosaic Method: Center
Allowed Mosaic Methods:
SortField:
SortValue: null
Mosaic Operator: First
Default Compression Quality: 75
Default Resampling Method: Bilinear
Max Record Count: null
Max Image Height: 4100
Max Image Width: 15000
Max Download Image Count: null
Max Mosaic Image Count: null
Allow Raster Function: true
Allow Copy: true
Allow Analysis: true
Allow Compute TiePoints: false
Supports Statistics: false
Supports Advanced Queries: false
Use StandardizedQueries: true
Raster Type Infos:
Name: Raster Dataset
Description: Supports all ArcGIS Raster Datasets
Help:
Has Raster Attribute Table: true
Edit Fields Info: null
Ownership Based AccessControl For Rasters: null
Child Resources:
Info
Raster Attribute Table
Histograms
Statistics
Key Properties
Legend
Raster Function Infos
Supported Operations:
Export Image
Identify
Measure
Compute Histograms
Compute Statistics Histograms
Get Samples
Compute Class Statistics
Query Boundary
Compute Pixel Location
Compute Angles
Validate
Project