View In:
ArcGIS JavaScript
ArcGIS Online Map Viewer
ArcGIS Earth
Service Description: Changing weather patterns, predictions of future conditions, and FIRMs that show flood risk based on past events necessitated the creation of a map product to communicate the flood risk beyond the 100-year floodplain. The BFE+3’ up and out methodology is meant to convey that risk by adding three feet of water on top of the base flood elevation (vertically) and pushing this volume of water out horizontally. It projects a larger volume storm than the 100-year storm and in Maryland’s coastal areas, it shows where the 100-year floodplain could be by 2050. The advantage of the BFE+3’ up and out method is that it can generate flood depths beyond the floodplain, making it a powerful tool when conveying the flood risk in areas outside the 100-year floodplain.
The BFE+3’ Up and Out methodology will produce map products that can be used to communicate the risk of flooding for properties outside the 100-year floodplain by adding three feet of water on top of the BFE, vertically, and pushing this volume of water out horizontally. An advantage of the BFE+3’ maps is that it will show flood depths beyond the 100-year floodplain. Comparatively, adding a 3’ freeboard to the BFE only accounts for the vertical rise and does not address what would happen to the rest of that volume of water in terms of horizontal spread. Because the BFE ends at the boundary of the 100-year floodplain, the areas beyond it are without identified flood depths. BFE+3’ up and out will resolve that issue. BFE+3’ maps quantify the flood risk beyond the floodplain
Name: CRAB/Coast_Smart_Climate_Ready_Action_Boundary_CRAB
Description: Changing weather patterns, predictions of future conditions, and FIRMs that show flood risk based on past events necessitated the creation of a map product to communicate the flood risk beyond the 100-year floodplain. The BFE+3’ up and out methodology is meant to convey that risk by adding three feet of water on top of the base flood elevation (vertically) and pushing this volume of water out horizontally. It projects a larger volume storm than the 100-year storm and in Maryland’s coastal areas, it shows where the 100-year floodplain could be by 2050. The advantage of the BFE+3’ up and out method is that it can generate flood depths beyond the floodplain, making it a powerful tool when conveying the flood risk in areas outside the 100-year floodplain.
The BFE+3’ Up and Out methodology will produce map products that can be used to communicate the risk of flooding for properties outside the 100-year floodplain by adding three feet of water on top of the BFE, vertically, and pushing this volume of water out horizontally. An advantage of the BFE+3’ maps is that it will show flood depths beyond the 100-year floodplain. Comparatively, adding a 3’ freeboard to the BFE only accounts for the vertical rise and does not address what would happen to the rest of that volume of water in terms of horizontal spread. Because the BFE ends at the boundary of the 100-year floodplain, the areas beyond it are without identified flood depths. BFE+3’ up and out will resolve that issue. BFE+3’ maps quantify the flood risk beyond the floodplain
Single Fused Map Cache: false
Extent:
XMin: -8602728.172509342
YMin: 4565128.624769894
XMax: -8350598.710619247
YMax: 4813044.4120947635
Spatial Reference: 102100
(3857)
LatestVCSWkid(0)
Initial Extent:
XMin: -8602728.172509342
YMin: 4565128.624769894
XMax: -8350598.710619247
YMax: 4813044.4120947635
Spatial Reference: 102100
(3857)
LatestVCSWkid(0)
Full Extent:
XMin: -8602728.172509342
YMin: 4565128.624769894
XMax: -8350598.710619247
YMax: 4813044.4120947635
Spatial Reference: 102100
(3857)
LatestVCSWkid(0)
Pixel Size X: 0.30480060960121924
Pixel Size Y: 0.30480060960121924
Band Count: 1
Pixel Type: F32
RasterFunction Infos: {"rasterFunctionInfos": [
{
"name": "Coastal CRAB",
"description": "Symbology for Coastal CRAB Data",
"help": ""
},
{
"name": "Coastal CRAB",
"description": "Symbology for Coastal CRAB Data",
"help": ""
},
{
"name": "None",
"description": "Make a Raster or Raster Dataset into a Function Raster Dataset.",
"help": ""
}
]}
Mensuration Capabilities:
Inspection Capabilities:
Has Histograms: true
Has Colormap: false
Has Multi Dimensions : false
Rendering Rule:
Min Scale: 0
Max Scale: 0
Resampling: false
Copyright Text: URLS and Links for usage and reference:https://mdfloodmaps.net/https://mdfloodmaps.net/crab/Email – flood.maps@maryland.govhttps://dnr.maryland.gov/climateresilience/Documents/2020-Coast-Smart-Program-Document-FINAL.pdfStorymap - https://storymaps.arcgis.com/stories/bd1ab6827c77457a9c6aec5ca1eb4af22020 – Coast Smart Program Document : https://dnr.maryland.gov/climateresilience/Documents/2020-Coast-Smart-Program-Document-FINAL.pdfHB 615 - https://legiscan.com/MD/bill/HB615/2014
Service Data Type: esriImageServiceDataTypeGeneric
Min Values: 0
Max Values: 14.304174423217773
Mean Values: 7.049611961256414
Standard Deviation Values: 2.9413267257878464
Object ID Field: OBJECTID
Fields:
-
OBJECTID
(
type: esriFieldTypeOID, alias: OBJECTID
)
-
Name
(
type: esriFieldTypeString, alias: Name, length: 200
)
-
MinPS
(
type: esriFieldTypeDouble, alias: MinPS
)
-
MaxPS
(
type: esriFieldTypeDouble, alias: MaxPS
)
-
LowPS
(
type: esriFieldTypeDouble, alias: LowPS
)
-
HighPS
(
type: esriFieldTypeDouble, alias: HighPS
)
-
Category
(
type: esriFieldTypeInteger, alias: Category
, Coded Values:
[0: Unknown]
, [1: Primary]
, [2: Overview]
, ...6 more...
)
-
Tag
(
type: esriFieldTypeString, alias: Tag, length: 100
)
-
GroupName
(
type: esriFieldTypeString, alias: GroupName, length: 100
)
-
ProductName
(
type: esriFieldTypeString, alias: ProductName, length: 100
)
-
CenterX
(
type: esriFieldTypeDouble, alias: CenterX
)
-
CenterY
(
type: esriFieldTypeDouble, alias: CenterY
)
-
ZOrder
(
type: esriFieldTypeInteger, alias: ZOrder
)
-
Shape
(
type: esriFieldTypeGeometry, alias: Shape
)
-
Shape.STArea()
(
type: esriFieldTypeDouble, alias: Shape.STArea()
)
-
Shape.STLength()
(
type: esriFieldTypeDouble, alias: Shape.STLength()
)
Default Mosaic Method: Northwest
Allowed Mosaic Methods: NorthWest,Center,LockRaster,ByAttribute,Nadir,Viewpoint,Seamline,None
SortField:
SortValue: null
Mosaic Operator: Min
Default Compression Quality: 75
Default Resampling Method: Bilinear
Max Record Count: 1000
Max Image Height: 4100
Max Image Width: 15000
Max Download Image Count: 20
Max Mosaic Image Count: 20
Allow Raster Function: true
Allow Copy: true
Allow Analysis: true
Allow Compute TiePoints: false
Supports Statistics: true
Supports Advanced Queries: true
Use StandardizedQueries: true
Raster Type Infos:
Name: Raster Dataset
Description: Supports all ArcGIS Raster Datasets
Help:
Has Raster Attribute Table: false
Edit Fields Info: null
Ownership Based AccessControl For Rasters: null
Child Resources:
Info
Histograms
Statistics
Key Properties
Legend
Raster Function Infos
Supported Operations:
Export Image
Query
Identify
Download Rasters
Get Image Url
Compute Histograms
Compute Statistics Histograms
Get Samples
Compute Class Statistics
Query GPS Info
Find Images
Image to Map
Map to Image
Measure from Image
Image to Map Multiray
Query Boundary
Compute Pixel Location
Compute Angles
Validate
Project