View In:
ArcGIS JavaScript
ArcGIS Online Map Viewer
ArcGIS Earth
Service Description: Drone/270_1_GR_tif
Name: Drone/270_1_GR_tif
Description:
Single Fused Map Cache: true
Tile Info:
- Height: 256
- Width: 256
- DPI: 96
-
Levels of Detail: 5
- Format: MIXED
- Compression Quality: 75.0
- LERC Error: NaN
- Origin: X: -1.205611E8
Y: 1.483025E8
- Spatial Reference: 102685
(2248)
LatestVCSWkid(0)
Storage Info:
- Storage Format: esriMapCacheStorageModeCompactV2
- Packet Size: 128
Extent:
XMin: 1237739.8906770484
YMin: 555382.4177941171
XMax: 1238893.9243885567
YMax: 557516.6102303099
Spatial Reference: 102685
(2248)
LatestVCSWkid(0)
Initial Extent:
XMin: 1237739.8906770484
YMin: 555382.4177941171
XMax: 1238893.9243885567
YMax: 557516.6102303099
Spatial Reference: 102685
(2248)
LatestVCSWkid(0)
Full Extent:
XMin: 1237739.8906770484
YMin: 555382.4177941171
XMax: 1238893.9243885567
YMax: 557516.6102303099
Spatial Reference: 102685
(2248)
LatestVCSWkid(0)
Pixel Size X: 0.057918881380596345
Pixel Size Y: 0.05545949888760373
Band Count: 4
Pixel Type: U8
RasterFunction Infos: {"rasterFunctionInfos": [{
"name": "None",
"description": "",
"help": ""
}]}
Mensuration Capabilities: Basic
Inspection Capabilities:
Has Histograms: true
Has Colormap: false
Has Multi Dimensions : false
Rendering Rule:
Min Scale: 8368.375543886199
Max Scale: 4184.1877719430995
Resampling: false
Copyright Text:
Service Data Type: esriImageServiceDataTypeGeneric
Min Values: 0, 0, 0, 0
Max Values: 255, 255, 255, 255
Mean Values: 26.058117737523, 26.27449766962, 25.194893170741, 64.993149437729
Standard Deviation Values: 47.116323793944, 47.866102658774, 46.950151994646, 111.12670088189
Object ID Field:
Fields:
None
Default Mosaic Method: Center
Allowed Mosaic Methods:
SortField:
SortValue: null
Mosaic Operator: First
Default Compression Quality: 75
Default Resampling Method: Bilinear
Max Record Count: null
Max Image Height: 4100
Max Image Width: 15000
Max Download Image Count: null
Max Mosaic Image Count: null
Allow Raster Function: true
Allow Copy: true
Allow Analysis: true
Allow Compute TiePoints: false
Supports Statistics: false
Supports Advanced Queries: false
Use StandardizedQueries: true
Raster Type Infos:
Name: Raster Dataset
Description: Supports all ArcGIS Raster Datasets
Help:
Has Raster Attribute Table: false
Edit Fields Info: null
Ownership Based AccessControl For Rasters: null
Child Resources:
Info
Histograms
Statistics
Key Properties
Legend
Raster Function Infos
Supported Operations:
Export Image
Identify
Measure
Compute Histograms
Compute Statistics Histograms
Get Samples
Compute Class Statistics
Query Boundary
Compute Pixel Location
Compute Angles
Validate
Project